BEGIN:VCALENDAR
VERSION:2.0
PRODID:-//Sabre//Sabre VObject 4.5.8//EN
CALSCALE:GREGORIAN
BEGIN:VEVENT
UID:criticalmass-one-giessen-1454605200
DTSTAMP:20260423T203329Z
SUMMARY:Critical Mass Gießen 04.02.2016
DTSTART;TZID=Europe/Berlin:20160204T180000
DTEND;TZID=Europe/Berlin:20160204T200000
LOCATION:Vor der Universität
GEO:50.580652;8.676930
URL;VALUE=URI:https://criticalmass.in/giessen/2016-02-04
END:VEVENT
END:VCALENDAR
