BEGIN:VCALENDAR
VERSION:2.0
PRODID:-//Sabre//Sabre VObject 4.5.8//EN
CALSCALE:GREGORIAN
BEGIN:VEVENT
UID:criticalmass-one-giessen-1435852800
DTSTAMP:20260425T001505Z
SUMMARY:Critical Mass Gießen 02.07.2015
DTSTART;TZID=Europe/Berlin:20150702T180000
DTEND;TZID=Europe/Berlin:20150702T200000
LOCATION:Vor der Universität
GEO:50.580652;8.676930
URL;VALUE=URI:https://criticalmass.in/giessen/2015-07-02
END:VEVENT
END:VCALENDAR
