BEGIN:VCALENDAR
VERSION:2.0
PRODID:-//Sabre//Sabre VObject 4.5.8//EN
CALSCALE:GREGORIAN
BEGIN:VEVENT
UID:criticalmass-one-giessen-1415293200
DTSTAMP:20260424T025823Z
SUMMARY:Critical Mass Gießen 06.11.2014
DTSTART;TZID=Europe/Berlin:20141106T180000
DTEND;TZID=Europe/Berlin:20141106T200000
LOCATION:Vor der Universität
GEO:50.580652;8.676930
URL;VALUE=URI:https://criticalmass.in/giessen/2014-11-06
END:VEVENT
END:VCALENDAR
