BEGIN:VCALENDAR
VERSION:2.0
PRODID:-//Sabre//Sabre VObject 4.5.8//EN
CALSCALE:GREGORIAN
BEGIN:VEVENT
UID:criticalmass-one-geraardsbergen-1774625400
DTSTAMP:20260424T153457Z
SUMMARY:Critical Mass Geraardsbergen 27.03.2026
DTSTART;TZID=Europe/Brussels:20260327T163000
DTEND;TZID=Europe/Brussels:20260327T183000
URL;VALUE=URI:https://criticalmass.in/geraardsbergen/2026-03-27
END:VEVENT
END:VCALENDAR
