BEGIN:VCALENDAR
VERSION:2.0
PRODID:-//Sabre//Sabre VObject 4.5.8//EN
CALSCALE:GREGORIAN
BEGIN:VEVENT
UID:criticalmass-one-geneve-1684065600
DTSTAMP:20260423T060838Z
SUMMARY:Kidical Mass Geneva 14.05.2023
DTSTART;TZID=Europe/Zurich:20230514T140000
DTEND;TZID=Europe/Zurich:20230514T160000
LOCATION:Parc des Bastions
GEO:46.200738;6.144565
URL;VALUE=URI:https://criticalmass.in/geneve/kidical-mass-geneve-mai-2023
END:VEVENT
END:VCALENDAR
