BEGIN:VCALENDAR
VERSION:2.0
PRODID:-//Sabre//Sabre VObject 4.5.8//EN
CALSCALE:GREGORIAN
BEGIN:VEVENT
UID:criticalmass-one-geneve-1753461000
DTSTAMP:20260421T113512Z
SUMMARY:Critical Mass Genève 25.07.2025
DTSTART;TZID=Europe/Zurich:20250725T183000
DTEND;TZID=Europe/Zurich:20250725T203000
LOCATION:Île Rousseau
GEO:46.205977;6.145412
URL;VALUE=URI:https://criticalmass.in/geneve/2025-07-25
END:VEVENT
END:VCALENDAR
