BEGIN:VCALENDAR
VERSION:2.0
PRODID:-//Sabre//Sabre VObject 4.5.8//EN
CALSCALE:GREGORIAN
BEGIN:VEVENT
UID:criticalmass-one-geneve-1732901400
DTSTAMP:20260421T100520Z
SUMMARY:Critical Mass Genève 29.11.2024
DTSTART;TZID=Europe/Zurich:20241129T183000
DTEND;TZID=Europe/Zurich:20241129T203000
LOCATION:Île Rousseau
GEO:46.205977;6.145412
URL;VALUE=URI:https://criticalmass.in/geneve/2024-11-29
END:VEVENT
END:VCALENDAR
