BEGIN:VCALENDAR
VERSION:2.0
PRODID:-//Sabre//Sabre VObject 4.5.8//EN
CALSCALE:GREGORIAN
BEGIN:VEVENT
UID:criticalmass-one-geneve-1696005000
DTSTAMP:20260421T100614Z
SUMMARY:Critical Mass Genève 29.09.2023
DTSTART;TZID=Europe/Zurich:20230929T183000
DTEND;TZID=Europe/Zurich:20230929T203000
LOCATION:Île Rousseau
GEO:46.205977;6.145412
URL;VALUE=URI:https://criticalmass.in/geneve/2023-09-29
END:VEVENT
END:VCALENDAR
