BEGIN:VCALENDAR
VERSION:2.0
PRODID:-//Sabre//Sabre VObject 4.5.8//EN
CALSCALE:GREGORIAN
BEGIN:VEVENT
UID:criticalmass-one-geneve-1640971800
DTSTAMP:20260424T152736Z
SUMMARY:Critical Mass Genève 31.12.2021
DTSTART;TZID=Europe/Zurich:20211231T183000
DTEND;TZID=Europe/Zurich:20211231T203000
LOCATION:Île Rousseau
GEO:46.205977;6.145412
URL;VALUE=URI:https://criticalmass.in/geneve/2021-12-31
END:VEVENT
END:VCALENDAR
