BEGIN:VCALENDAR
VERSION:2.0
PRODID:-//Sabre//Sabre VObject 4.5.8//EN
CALSCALE:GREGORIAN
BEGIN:VEVENT
UID:criticalmass-one-geneve-1635525000
DTSTAMP:20260421T100524Z
SUMMARY:Critical Mass Genève 29.10.2021
DTSTART;TZID=Europe/Zurich:20211029T183000
DTEND;TZID=Europe/Zurich:20211029T203000
LOCATION:Île Rousseau
GEO:46.205977;6.145412
URL;VALUE=URI:https://criticalmass.in/geneve/2021-10-29
END:VEVENT
END:VCALENDAR
