BEGIN:VCALENDAR
VERSION:2.0
PRODID:-//Sabre//Sabre VObject 4.5.8//EN
CALSCALE:GREGORIAN
BEGIN:VEVENT
UID:criticalmass-one-geneve-1604079000
DTSTAMP:20260421T223803Z
SUMMARY:Critical Mass Genève 30.10.2020
DTSTART;TZID=Europe/Zurich:20201030T183000
DTEND;TZID=Europe/Zurich:20201030T203000
LOCATION:Île Rousseau
GEO:46.205977;6.145412
URL;VALUE=URI:https://criticalmass.in/geneve/2020-10-30
END:VEVENT
END:VCALENDAR
