BEGIN:VCALENDAR
VERSION:2.0
PRODID:-//Sabre//Sabre VObject 4.5.8//EN
CALSCALE:GREGORIAN
BEGIN:VEVENT
UID:criticalmass-one-geneve-1572021000
DTSTAMP:20260421T104139Z
SUMMARY:Critical Mass Genève 25.10.2019
DTSTART;TZID=Europe/Zurich:20191025T183000
DTEND;TZID=Europe/Zurich:20191025T203000
LOCATION:Île Rousseau
GEO:46.205977;6.145412
URL;VALUE=URI:https://criticalmass.in/geneve/2019-10-25
END:VEVENT
END:VCALENDAR
