BEGIN:VCALENDAR
VERSION:2.0
PRODID:-//Sabre//Sabre VObject 4.5.8//EN
CALSCALE:GREGORIAN
BEGIN:VEVENT
UID:criticalmass-one-geneve-1559320200
DTSTAMP:20260419T151607Z
SUMMARY:Critical Mass Genève 31.05.2019
DTSTART;TZID=Europe/Zurich:20190531T183000
DTEND;TZID=Europe/Zurich:20190531T203000
LOCATION:Île Rousseau
GEO:46.205977;6.145412
URL;VALUE=URI:https://criticalmass.in/geneve/2019-05-31
END:VEVENT
END:VCALENDAR
