BEGIN:VCALENDAR
VERSION:2.0
PRODID:-//Sabre//Sabre VObject 4.5.8//EN
CALSCALE:GREGORIAN
BEGIN:VEVENT
UID:criticalmass-one-geneve-1550856600
DTSTAMP:20260422T033028Z
SUMMARY:Critical Mass Genève 22.02.2019
DTSTART;TZID=Europe/Zurich:20190222T183000
DTEND;TZID=Europe/Zurich:20190222T203000
LOCATION:Île Rousseau
GEO:46.205977;6.145412
URL;VALUE=URI:https://criticalmass.in/geneve/2019-02-22
END:VEVENT
END:VCALENDAR
