BEGIN:VCALENDAR
VERSION:2.0
PRODID:-//Sabre//Sabre VObject 4.5.8//EN
CALSCALE:GREGORIAN
BEGIN:VEVENT
UID:criticalmass-one-geneve-1546018200
DTSTAMP:20260422T093349Z
SUMMARY:Critical Mass Genève 28.12.2018
DTSTART;TZID=Europe/Zurich:20181228T183000
DTEND;TZID=Europe/Zurich:20181228T203000
LOCATION:Île Rousseau
GEO:46.205977;6.145412
URL;VALUE=URI:https://criticalmass.in/geneve/2018-12-28
END:VEVENT
END:VCALENDAR
