BEGIN:VCALENDAR
VERSION:2.0
PRODID:-//Sabre//Sabre VObject 4.5.8//EN
CALSCALE:GREGORIAN
BEGIN:VEVENT
UID:criticalmass-one-geneve-1522431000
DTSTAMP:20260423T232903Z
SUMMARY:Critical Mass Genève 30.03.2018
DTSTART;TZID=Europe/Zurich:20180330T193000
DTEND;TZID=Europe/Zurich:20180330T213000
LOCATION:Île Rousseau
GEO:46.205977;6.145412
URL;VALUE=URI:https://criticalmass.in/geneve/2018-03-30
END:VEVENT
END:VCALENDAR
