BEGIN:VCALENDAR
VERSION:2.0
PRODID:-//Sabre//Sabre VObject 4.5.8//EN
CALSCALE:GREGORIAN
BEGIN:VEVENT
UID:criticalmass-one-geneve-1519407000
DTSTAMP:20260423T024641Z
SUMMARY:Critical Mass Genève 23.02.2018
DTSTART;TZID=Europe/Zurich:20180223T183000
DTEND;TZID=Europe/Zurich:20180223T203000
LOCATION:Île Rousseau
GEO:46.205977;6.145412
URL;VALUE=URI:https://criticalmass.in/geneve/2018-02-23
END:VEVENT
END:VCALENDAR
