BEGIN:VCALENDAR
VERSION:2.0
PRODID:-//Sabre//Sabre VObject 4.5.8//EN
CALSCALE:GREGORIAN
BEGIN:VEVENT
UID:criticalmass-one-geneve-1503678600
DTSTAMP:20260421T204859Z
SUMMARY:Critical Mass Genève 25.08.2017
DTSTART;TZID=Europe/Zurich:20170825T183000
DTEND;TZID=Europe/Zurich:20170825T203000
LOCATION:Île Rousseau
GEO:46.205977;6.145412
URL;VALUE=URI:https://criticalmass.in/geneve/2017-08-25
END:VEVENT
END:VCALENDAR
