BEGIN:VCALENDAR
VERSION:2.0
PRODID:-//Sabre//Sabre VObject 4.5.8//EN
CALSCALE:GREGORIAN
BEGIN:VEVENT
UID:criticalmass-one-geneve-1458927000
DTSTAMP:20260421T100359Z
SUMMARY:Critical Mass Genève 25.03.2016
DTSTART;TZID=Europe/Zurich:20160325T183000
DTEND;TZID=Europe/Zurich:20160325T203000
LOCATION:Île Rousseau
GEO:46.205977;6.145412
URL;VALUE=URI:https://criticalmass.in/geneve/2016-03-25
END:VEVENT
END:VCALENDAR
