BEGIN:VCALENDAR
VERSION:2.0
PRODID:-//Sabre//Sabre VObject 4.5.8//EN
CALSCALE:GREGORIAN
BEGIN:VEVENT
UID:criticalmass-one-fuerth-1445011200
DTSTAMP:20260426T023554Z
SUMMARY:Critical Mass Fürth 16.10.2015
DTSTART;TZID=Europe/Berlin:20151016T180000
DTEND;TZID=Europe/Berlin:20151016T200000
LOCATION:Paradiesbrunnen
GEO:49.471629;10.992490
URL;VALUE=URI:https://criticalmass.in/fuerth/2015-10-16
END:VEVENT
END:VCALENDAR
