BEGIN:VCALENDAR
VERSION:2.0
PRODID:-//Sabre//Sabre VObject 4.5.8//EN
CALSCALE:GREGORIAN
BEGIN:VEVENT
UID:criticalmass-one-friedberg-1752685200
DTSTAMP:20260424T000711Z
SUMMARY:15. Critical Mass Bad Nauheim - Friedberg
DTSTART;TZID=Europe/Berlin:20250716T190000
DTEND;TZID=Europe/Berlin:20250716T210000
LOCATION:Elvis-Presley-Platz Friedberg\, Café Rund
GEO:50.336237;8.753539
URL;VALUE=URI:https://criticalmass.in/friedberg/2025-07-16
END:VEVENT
END:VCALENDAR
