BEGIN:VCALENDAR
VERSION:2.0
PRODID:-//Sabre//Sabre VObject 4.5.8//EN
CALSCALE:GREGORIAN
BEGIN:VEVENT
UID:criticalmass-one-friedberg-1749661200
DTSTAMP:20260425T004613Z
SUMMARY:14. Critical Mass Bad Nauheim - Friedberg
DTSTART;TZID=Europe/Berlin:20250611T190000
DTEND;TZID=Europe/Berlin:20250611T210000
LOCATION:Elvis-Presley-Platz Friedberg\, Café Rund
GEO:50.336232;8.753526
URL;VALUE=URI:https://criticalmass.in/friedberg/2025-06-11
END:VEVENT
END:VCALENDAR
