BEGIN:VCALENDAR
VERSION:2.0
PRODID:-//Sabre//Sabre VObject 4.5.8//EN
CALSCALE:GREGORIAN
BEGIN:VEVENT
UID:criticalmass-one-friedberg-1746032400
DTSTAMP:20260424T220247Z
SUMMARY:12. Critical Ma(i)ss - Walpurgis Ride in den Mai
DESCRIPTION:Die Critical Mass Bad Nauheim - Friedberg erwacht aus dem Winte
 rschlaf! Klemmt euch einen Hexenbesen ans Fahrrad oder Ma(i)ss an den Lenk
 er und kommt anschließend mit zum Tanz in den Mai beim Bio-Hopper in Osse
 nheim oder zum Bass in den Mai im Timeless-Club auf der Kaiserstraße.
DTSTART;TZID=Europe/Berlin:20250430T190000
DTEND;TZID=Europe/Berlin:20250430T210000
LOCATION:Elvis-Presley-Platz Friedberg\, Café Rund
GEO:50.336254;8.753539
URL;VALUE=URI:https://criticalmass.in/friedberg/2025-04-30
END:VEVENT
END:VCALENDAR
