BEGIN:VCALENDAR
VERSION:2.0
PRODID:-//Sabre//Sabre VObject 4.5.8//EN
CALSCALE:GREGORIAN
BEGIN:VEVENT
UID:criticalmass-one-friedberg-1718445600
DTSTAMP:20260424T111153Z
SUMMARY:Auf einen Vino zum Aliceplatz -- Stadtradeln Special Edition
DESCRIPTION:Auf einen Vino zum Alice-Platz.\n\nSamstag\, um 12 Uhr Critical
  Mass Stadtradeln Special Edition von der Kaiserstraße zur Parkstraße\n\
 n12:00 Treffpunkt Cafe Rund am Elvis-Platz in Friedberg\, Chill-out in Bad
  Nauheim am Aliceplatz.\n\nRegistrierung fürs CM-BNFB Stadtradeln-Team: \
 nhttps://www.stadtradeln.de/index.php?id=171&L=0&team_preselect=63856
DTSTART;TZID=Europe/Berlin:20240615T120000
DTEND;TZID=Europe/Berlin:20240615T140000
LOCATION:Elvis-Presley-Platz Friedberg\, Café Rund
GEO:50.336442;8.753604
URL;VALUE=URI:https://criticalmass.in/friedberg/2024-06-15
END:VEVENT
END:VCALENDAR
