BEGIN:VCALENDAR
VERSION:2.0
PRODID:-//Sabre//Sabre VObject 4.5.8//EN
CALSCALE:GREGORIAN
BEGIN:VEVENT
UID:criticalmass-one-friedberg-1717606800
DTSTAMP:20260423T154345Z
SUMMARY:7. Critical Mass Bad Nauheim - Friedberg
DESCRIPTION:Gemütliche Runde zum Feierabend durch Friedberg und Bad Nauhei
 m
DTSTART;TZID=Europe/Berlin:20240605T190000
DTEND;TZID=Europe/Berlin:20240605T210000
LOCATION:Elvis-Presley-Platz Friedberg\, Café Rund
GEO:50.336360;8.753593
URL;VALUE=URI:https://criticalmass.in/friedberg/2024-06-05
END:VEVENT
END:VCALENDAR
