BEGIN:VCALENDAR
VERSION:2.0
PRODID:-//Sabre//Sabre VObject 4.5.8//EN
CALSCALE:GREGORIAN
BEGIN:VEVENT
UID:criticalmass-one-friedberg-1712163600
DTSTAMP:20260424T113353Z
SUMMARY:5. Critical Mass Bad Nauheim - Friedberg - Gegen das Vergessen und 
 für die Menschlichkeit
DESCRIPTION:Lasst uns dieses Mal für die Menschlichkeit und gegen das Verg
 essen unterwegs sein ! Antisemitismus\, Rassismus\, und Ausgrenzung jeglic
 her Art dürfen bei uns keinen Platz haben !
DTSTART;TZID=Europe/Berlin:20240403T190000
DTEND;TZID=Europe/Berlin:20240403T210000
LOCATION:Elvis-Presley-Platz Friedberg\, Café Rund
GEO:50.336299;8.753507
URL;VALUE=URI:https://criticalmass.in/friedberg/2024-04-03
END:VEVENT
END:VCALENDAR
