BEGIN:VCALENDAR
VERSION:2.0
PRODID:-//Sabre//Sabre VObject 4.5.8//EN
CALSCALE:GREGORIAN
BEGIN:VEVENT
UID:criticalmass-one-friedberg-1702828800
DTSTAMP:20260424T055020Z
SUMMARY:Christ Mass 2023
DESCRIPTION:Die angesagte CM-Winterpause ist schon ganz schön lang\, darum
  gibt's ne\n\nCHRIST MASS \nam Sonntag\, 17.Dezember '23 um 17 Uhr\n\nTref
 fpunkt in Friedberg am Elvis Presley Platz\, Café Rund\nvon da geht's nac
 h Bad Nauheim auf den Weihnachtsmarkt in der Trinkkuranlage.\nGesellige Vo
 rbereitung auf dem Elvis Presley Platz vor 17 Uhr nicht ausgeschlossen.
DTSTART;TZID=Europe/Berlin:20231217T170000
DTEND;TZID=Europe/Berlin:20231217T190000
LOCATION:Friedberg am Elvis Presley Platz\, Café Rund
GEO:50.336374;8.753539
URL;VALUE=URI:https://criticalmass.in/friedberg/2023-12-17
END:VEVENT
END:VCALENDAR
