BEGIN:VCALENDAR
VERSION:2.0
PRODID:-//Sabre//Sabre VObject 4.5.8//EN
CALSCALE:GREGORIAN
BEGIN:VEVENT
UID:criticalmass-one-friedberg-1694188800
DTSTAMP:20260424T232455Z
SUMMARY:Fahrradparade Friedberg
DESCRIPTION:Radfahren ist eine der umweltfreundlichsten Fortbewegungsarten\
 , die keinen Lärm macht\, die Straßen entlastet\, die Gesundheit förder
 t und auch noch Spaß macht. Radfahren ist für jedes Alter geeignet und i
 st in Friedberg sogar die schnellste Möglichkeit\, von einem Ort zum ande
 ren zu gelangen. Es mangelt aber an Sicherheit für die Radfahrenden\, die
  sich die Straße mit den Autofahrenden teilen müssen. Vielfach wird die 
 Abstandsregel missachtet. Parkende Autos zwingen zu Ausweichmanövern und 
 fordern die Aufmerksamkeit\, Radwege enden im Nirgendwo. Insbesondere ält
 ere Menschen fühlen sich dadurch unsicher und Kinder können übersehen w
 erden. Schulwege mit dem Rad zu bewältigen erscheint dadurch für viele E
 ltern als zu riskant. In Friedberg fehlt bislang ein vielfach gefordertes 
 Mobilitätskonzept. Die Fahrradparade will daher auf die Interessen der Ra
 dfahrenden aufmerksam machen und um mehr Unterstützung und Rücksichtnahm
 e werben. \n\nDie Aktion steht im Bezug zur europäischen Mobilitätswoche
  (16-22.9) und zur Aktionswoche Kidical Mass (22.-24.9).
DTSTART;TZID=Europe/Berlin:20230908T180000
DTEND;TZID=Europe/Berlin:20230908T200000
LOCATION:Elvis-Presley-Platz Friedberg
GEO:50.336213;8.753518
URL;VALUE=URI:https://criticalmass.in/friedberg/2023-09-08
END:VEVENT
END:VCALENDAR
