BEGIN:VCALENDAR
VERSION:2.0
PRODID:-//Sabre//Sabre VObject 4.5.8//EN
CALSCALE:GREGORIAN
BEGIN:VEVENT
UID:criticalmass-one-freudenstadt-1744648200
DTSTAMP:20260422T104524Z
SUMMARY:Critical Mass Freudenstadt 14.04.2025
DTSTART;TZID=Europe/Berlin:20250414T183000
DTEND;TZID=Europe/Berlin:20250414T203000
LOCATION:Marktplatz
GEO:48.464518;8.411765
URL;VALUE=URI:https://criticalmass.in/freudenstadt/2025-04-14
END:VEVENT
END:VCALENDAR
