BEGIN:VCALENDAR
VERSION:2.0
PRODID:-//Sabre//Sabre VObject 4.5.8//EN
CALSCALE:GREGORIAN
BEGIN:VEVENT
UID:criticalmass-one-freudenstadt-1741627800
DTSTAMP:20260423T103841Z
SUMMARY:Critical Mass Freudenstadt 10.03.2025
DTSTART;TZID=Europe/Berlin:20250310T183000
DTEND;TZID=Europe/Berlin:20250310T203000
LOCATION:Marktplatz
GEO:48.464518;8.411765
URL;VALUE=URI:https://criticalmass.in/freudenstadt/2025-03-10
END:VEVENT
END:VCALENDAR
