BEGIN:VCALENDAR
VERSION:2.0
PRODID:-//Sabre//Sabre VObject 4.5.8//EN
CALSCALE:GREGORIAN
BEGIN:VEVENT
UID:criticalmass-one-freudenstadt-1728923400
DTSTAMP:20260422T231207Z
SUMMARY:Critical Mass Freudenstadt 14.10.2024
DTSTART;TZID=Europe/Berlin:20241014T183000
DTEND;TZID=Europe/Berlin:20241014T203000
LOCATION:Marktplatz
GEO:48.464518;8.411765
URL;VALUE=URI:https://criticalmass.in/freudenstadt/2024-10-14
END:VEVENT
END:VCALENDAR
