BEGIN:VCALENDAR
VERSION:2.0
PRODID:-//Sabre//Sabre VObject 4.5.8//EN
CALSCALE:GREGORIAN
BEGIN:VEVENT
UID:criticalmass-one-freudenstadt-1718037000
DTSTAMP:20260424T104743Z
SUMMARY:Critical Mass Freudenstadt 10.06.2024
DTSTART;TZID=Europe/Berlin:20240610T183000
DTEND;TZID=Europe/Berlin:20240610T203000
LOCATION:Marktplatz
GEO:48.464518;8.411765
URL;VALUE=URI:https://criticalmass.in/freudenstadt/2024-06-10
END:VEVENT
END:VCALENDAR
