BEGIN:VCALENDAR
VERSION:2.0
PRODID:-//Sabre//Sabre VObject 4.5.8//EN
CALSCALE:GREGORIAN
BEGIN:VEVENT
UID:criticalmass-one-freudenstadt-1712593800
DTSTAMP:20260423T074707Z
SUMMARY:Critical Mass Freudenstadt 08.04.2024
DTSTART;TZID=Europe/Berlin:20240408T183000
DTEND;TZID=Europe/Berlin:20240408T203000
LOCATION:Marktplatz
GEO:48.464518;8.411765
URL;VALUE=URI:https://criticalmass.in/freudenstadt/2024-04-08
END:VEVENT
END:VCALENDAR
