BEGIN:VCALENDAR
VERSION:2.0
PRODID:-//Sabre//Sabre VObject 4.5.8//EN
CALSCALE:GREGORIAN
BEGIN:VEVENT
UID:criticalmass-one-freudenstadt-1702315800
DTSTAMP:20260423T103835Z
SUMMARY:Critical Mass Freudenstadt 11.12.2023
DTSTART;TZID=Europe/Berlin:20231211T183000
DTEND;TZID=Europe/Berlin:20231211T203000
LOCATION:Marktplatz
GEO:48.464518;8.411765
URL;VALUE=URI:https://criticalmass.in/freudenstadt/2023-12-11
END:VEVENT
END:VCALENDAR
