BEGIN:VCALENDAR
VERSION:2.0
PRODID:-//Sabre//Sabre VObject 4.5.8//EN
CALSCALE:GREGORIAN
BEGIN:VEVENT
UID:criticalmass-one-freudenstadt-1694449800
DTSTAMP:20260422T105459Z
SUMMARY:Critical Mass Freudenstadt 11.09.2023
DTSTART;TZID=Europe/Berlin:20230911T183000
DTEND;TZID=Europe/Berlin:20230911T203000
LOCATION:Marktplatz
GEO:48.464518;8.411765
URL;VALUE=URI:https://criticalmass.in/freudenstadt/2023-09-11
END:VEVENT
END:VCALENDAR
