BEGIN:VCALENDAR
VERSION:2.0
PRODID:-//Sabre//Sabre VObject 4.5.8//EN
CALSCALE:GREGORIAN
BEGIN:VEVENT
UID:criticalmass-one-freudenstadt-1692030600
DTSTAMP:20260422T060759Z
SUMMARY:Critical Mass Freudenstadt 14.08.2023
DTSTART;TZID=Europe/Berlin:20230814T183000
DTEND;TZID=Europe/Berlin:20230814T203000
LOCATION:Marktplatz
GEO:48.464518;8.411765
URL;VALUE=URI:https://criticalmass.in/freudenstadt/2023-08-14
END:VEVENT
END:VCALENDAR
