BEGIN:VCALENDAR
VERSION:2.0
PRODID:-//Sabre//Sabre VObject 4.5.8//EN
CALSCALE:GREGORIAN
BEGIN:VEVENT
UID:criticalmass-one-freudenstadt-1668447000
DTSTAMP:20260424T092343Z
SUMMARY:Critical Mass Freudenstadt 14.11.2022
DTSTART;TZID=Europe/Berlin:20221114T183000
DTEND;TZID=Europe/Berlin:20221114T203000
LOCATION:Marktplatz
GEO:48.464518;8.411765
URL;VALUE=URI:https://criticalmass.in/freudenstadt/2022-11-14
END:VEVENT
END:VCALENDAR
