BEGIN:VCALENDAR
VERSION:2.0
PRODID:-//Sabre//Sabre VObject 4.5.8//EN
CALSCALE:GREGORIAN
BEGIN:VEVENT
UID:criticalmass-one-freudenstadt-1647279000
DTSTAMP:20260423T053404Z
SUMMARY:Critical Mass Freudenstadt 14.03.2022
DTSTART;TZID=Europe/Berlin:20220314T183000
DTEND;TZID=Europe/Berlin:20220314T203000
LOCATION:Marktplatz
GEO:48.464518;8.411765
URL;VALUE=URI:https://criticalmass.in/freudenstadt/2022-03-14
END:VEVENT
END:VCALENDAR
