BEGIN:VCALENDAR
VERSION:2.0
PRODID:-//Sabre//Sabre VObject 4.5.8//EN
CALSCALE:GREGORIAN
BEGIN:VEVENT
UID:criticalmass-one-freudenstadt-1641835800
DTSTAMP:20260424T092240Z
SUMMARY:Critical Mass Freudenstadt 10.01.2022
DTSTART;TZID=Europe/Berlin:20220110T183000
DTEND;TZID=Europe/Berlin:20220110T203000
LOCATION:Marktplatz
GEO:48.464518;8.411765
URL;VALUE=URI:https://criticalmass.in/freudenstadt/2022-01-10
END:VEVENT
END:VCALENDAR
