BEGIN:VCALENDAR
VERSION:2.0
PRODID:-//Sabre//Sabre VObject 4.5.8//EN
CALSCALE:GREGORIAN
BEGIN:VEVENT
UID:criticalmass-one-freudenstadt-1628526600
DTSTAMP:20260424T092338Z
SUMMARY:Critical Mass Freudenstadt 09.08.2021
DTSTART;TZID=Europe/Berlin:20210809T183000
DTEND;TZID=Europe/Berlin:20210809T203000
LOCATION:Marktplatz
GEO:48.464518;8.411765
URL;VALUE=URI:https://criticalmass.in/freudenstadt/2021-08-09
END:VEVENT
END:VCALENDAR
