BEGIN:VCALENDAR
VERSION:2.0
PRODID:-//Sabre//Sabre VObject 4.5.8//EN
CALSCALE:GREGORIAN
BEGIN:VEVENT
UID:criticalmass-one-freudenstadt-1623688200
DTSTAMP:20260422T204713Z
SUMMARY:Critical Mass Freudenstadt 14.06.2021
DTSTART;TZID=Europe/Berlin:20210614T183000
DTEND;TZID=Europe/Berlin:20210614T203000
LOCATION:Marktplatz
GEO:48.464518;8.411765
URL;VALUE=URI:https://criticalmass.in/freudenstadt/2021-06-14
END:VEVENT
END:VCALENDAR
