BEGIN:VCALENDAR
VERSION:2.0
PRODID:-//Sabre//Sabre VObject 4.5.8//EN
CALSCALE:GREGORIAN
BEGIN:VEVENT
UID:criticalmass-one-freudenstadt-1610386200
DTSTAMP:20260424T104649Z
SUMMARY:Critical Mass Freudenstadt 11.01.2021
DTSTART;TZID=Europe/Berlin:20210111T183000
DTEND;TZID=Europe/Berlin:20210111T203000
LOCATION:Marktplatz
GEO:48.464518;8.411765
URL;VALUE=URI:https://criticalmass.in/freudenstadt/2021-01-11
END:VEVENT
END:VCALENDAR
