BEGIN:VCALENDAR
VERSION:2.0
PRODID:-//Sabre//Sabre VObject 4.5.8//EN
CALSCALE:GREGORIAN
BEGIN:VEVENT
UID:criticalmass-one-freudenstadt-1607967000
DTSTAMP:20260424T100756Z
SUMMARY:Critical Mass Freudenstadt 14.12.2020
DTSTART;TZID=Europe/Berlin:20201214T183000
DTEND;TZID=Europe/Berlin:20201214T203000
LOCATION:Marktplatz
GEO:48.464518;8.411765
URL;VALUE=URI:https://criticalmass.in/freudenstadt/2020-12-14
END:VEVENT
END:VCALENDAR
