BEGIN:VCALENDAR
VERSION:2.0
PRODID:-//Sabre//Sabre VObject 4.5.8//EN
CALSCALE:GREGORIAN
BEGIN:VEVENT
UID:criticalmass-one-freudenstadt-1604943000
DTSTAMP:20260423T112953Z
SUMMARY:Critical Mass Freudenstadt 09.11.2020
DTSTART;TZID=Europe/Berlin:20201109T183000
DTEND;TZID=Europe/Berlin:20201109T203000
LOCATION:Marktplatz
GEO:48.464518;8.411765
URL;VALUE=URI:https://criticalmass.in/freudenstadt/2020-11-09
END:VEVENT
END:VCALENDAR
