BEGIN:VCALENDAR
VERSION:2.0
PRODID:-//Sabre//Sabre VObject 4.5.8//EN
CALSCALE:GREGORIAN
BEGIN:VEVENT
UID:criticalmass-one-freudenstadt-1583775000
DTSTAMP:20260423T101131Z
SUMMARY:Critical Mass Freudenstadt 09.03.2020
DTSTART;TZID=Europe/Berlin:20200309T183000
DTEND;TZID=Europe/Berlin:20200309T203000
LOCATION:Marktplatz
GEO:48.464518;8.411765
URL;VALUE=URI:https://criticalmass.in/freudenstadt/2020-03-09
END:VEVENT
END:VCALENDAR
