BEGIN:VCALENDAR
VERSION:2.0
PRODID:-//Sabre//Sabre VObject 4.5.8//EN
CALSCALE:GREGORIAN
BEGIN:VEVENT
UID:criticalmass-one-freudenstadt-1542043800
DTSTAMP:20260423T124500Z
SUMMARY:Critical Mass Freudenstadt 12.11.2018
DTSTART;TZID=Europe/Berlin:20181112T183000
DTEND;TZID=Europe/Berlin:20181112T203000
LOCATION:Marktplatz
GEO:48.464518;8.411765
URL;VALUE=URI:https://criticalmass.in/freudenstadt/2018-11-12
END:VEVENT
END:VCALENDAR
