BEGIN:VCALENDAR
VERSION:2.0
PRODID:-//Sabre//Sabre VObject 4.5.8//EN
CALSCALE:GREGORIAN
BEGIN:VEVENT
UID:criticalmass-one-freudenstadt-1539016200
DTSTAMP:20260422T204240Z
SUMMARY:Critical Mass Freudenstadt 08.10.2018
DTSTART;TZID=Europe/Berlin:20181008T183000
DTEND;TZID=Europe/Berlin:20181008T203000
LOCATION:Marktplatz
GEO:48.464518;8.411765
URL;VALUE=URI:https://criticalmass.in/freudenstadt/2018-10-08
END:VEVENT
END:VCALENDAR
