BEGIN:VCALENDAR
VERSION:2.0
PRODID:-//Sabre//Sabre VObject 4.5.8//EN
CALSCALE:GREGORIAN
BEGIN:VEVENT
UID:criticalmass-one-freudenstadt-1536597000
DTSTAMP:20260423T192534Z
SUMMARY:Critical Mass Freudenstadt 10.09.2018
DTSTART;TZID=Europe/Berlin:20180910T183000
DTEND;TZID=Europe/Berlin:20180910T203000
LOCATION:Marktplatz
GEO:48.464518;8.411765
URL;VALUE=URI:https://criticalmass.in/freudenstadt/2018-09-10
END:VEVENT
END:VCALENDAR
