BEGIN:VCALENDAR
VERSION:2.0
PRODID:-//Sabre//Sabre VObject 4.5.8//EN
CALSCALE:GREGORIAN
BEGIN:VEVENT
UID:criticalmass-one-freudenstadt-1528734600
DTSTAMP:20260423T085412Z
SUMMARY:Critical Mass Freudenstadt 11.06.2018
DTSTART;TZID=Europe/Berlin:20180611T183000
DTEND;TZID=Europe/Berlin:20180611T203000
LOCATION:Marktplatz
GEO:48.464518;8.411765
URL;VALUE=URI:https://criticalmass.in/freudenstadt/2018-06-11
END:VEVENT
END:VCALENDAR
