BEGIN:VCALENDAR
VERSION:2.0
PRODID:-//Sabre//Sabre VObject 4.5.8//EN
CALSCALE:GREGORIAN
BEGIN:VEVENT
UID:criticalmass-one-freudenstadt-1515432600
DTSTAMP:20260424T232604Z
SUMMARY:Critical Mass Freudenstadt 08.01.2018
DTSTART;TZID=Europe/Berlin:20180108T183000
DTEND;TZID=Europe/Berlin:20180108T203000
LOCATION:Marktplatz
GEO:48.464518;8.411765
URL;VALUE=URI:https://criticalmass.in/freudenstadt/2018-01-08
END:VEVENT
END:VCALENDAR
